BEGIN:VCALENDAR
VERSION:2.0
PRODID:-//The Land Trust For Tennessee - ECPv6.15.20//NONSGML v1.0//EN
CALSCALE:GREGORIAN
METHOD:PUBLISH
X-WR-CALNAME:The Land Trust For Tennessee
X-ORIGINAL-URL:https://www.landtrusttn.org
X-WR-CALDESC:Events for The Land Trust For Tennessee
REFRESH-INTERVAL;VALUE=DURATION:PT1H
X-Robots-Tag:noindex
X-PUBLISHED-TTL:PT1H
BEGIN:VTIMEZONE
TZID:America/New_York
BEGIN:DAYLIGHT
TZOFFSETFROM:-0500
TZOFFSETTO:-0400
TZNAME:EDT
DTSTART:20200308T070000
END:DAYLIGHT
BEGIN:STANDARD
TZOFFSETFROM:-0400
TZOFFSETTO:-0500
TZNAME:EST
DTSTART:20201101T060000
END:STANDARD
BEGIN:DAYLIGHT
TZOFFSETFROM:-0500
TZOFFSETTO:-0400
TZNAME:EDT
DTSTART:20210314T070000
END:DAYLIGHT
BEGIN:STANDARD
TZOFFSETFROM:-0400
TZOFFSETTO:-0500
TZNAME:EST
DTSTART:20211107T060000
END:STANDARD
BEGIN:DAYLIGHT
TZOFFSETFROM:-0500
TZOFFSETTO:-0400
TZNAME:EDT
DTSTART:20220313T070000
END:DAYLIGHT
BEGIN:STANDARD
TZOFFSETFROM:-0400
TZOFFSETTO:-0500
TZNAME:EST
DTSTART:20221106T060000
END:STANDARD
END:VTIMEZONE
BEGIN:VEVENT
DTSTART;TZID=America/New_York:20211116T180000
DTEND;TZID=America/New_York:20211116T200000
DTSTAMP:20260420T075555
CREATED:20211111T164722Z
LAST-MODIFIED:20211111T165246Z
UID:10000198-1637085600-1637092800@www.landtrusttn.org
SUMMARY:Pint Night for Walden's Ridge Park - November 16\, 2021
DESCRIPTION:Join The Land Trust for Tennessee and all of the Walden’s Ridge Park partners for a pint night on Tuesday\, November 16 at Hutton & Smith Brewing Company from 6:00 – 8:00 pm ET. We’ll be hanging out and talking updates on the forthcoming park with those working to make it happen\, including our friends at Southeastern Climbers Coalition\, North Chickamauga Creek Conservancy\, and SORBA Chattanooga. \n  \n \nSanta Cruz Heckler Sweepstakes \nEnter for a chance to win a custom Santa Cruz Heckler here and support Walden’s Ridge Park! Generously donated to SORBA Chattanooga from Suck Creek Cycles\, this Santa Cruz Heckler was a dream ebike before our other sponsors stepped in! With it’s new Shimano drivetrain and brakes\, Fox Suspension\, and carbon wheels courtesy of Nox Composites and Industry Nine\, this do-it-all ebike will take you further than you could have ever imagined! Learn more about the sweepstakes here. \nAbout Walden’s Ridge Park \nConservation groups\, community leaders\, and volunteers are working hard to create a 200-acre park on the flank of Signal Mountain. Once complete\, Walden’s Ridge Park will provide a range of mountain biking\, bouldering\, and hiking opportunities all within a 10-minute drive from downtown Chattanooga. Walden’s Ridge Park promises to be a major conservation and outdoor recreation success for the community. \nFor more details\, park plan\, and vision\, visit www.waldensridgepark.com.
URL:https://www.landtrusttn.org/event/pintnight/
LOCATION:Hutton & Smith Brewing Company\, 431 East Martin Luther King Blvd #120\, Chattanooga\, TN\, 37403
ORGANIZER;CN="The Land Trust for Tennessee":MAILTO:info@landtrusttn.org
END:VEVENT
END:VCALENDAR