BEGIN:VCALENDAR
VERSION:2.0
PRODID:-//The Land Trust For Tennessee - ECPv6.15.20//NONSGML v1.0//EN
CALSCALE:GREGORIAN
METHOD:PUBLISH
X-ORIGINAL-URL:https://www.landtrusttn.org
X-WR-CALDESC:Events for The Land Trust For Tennessee
REFRESH-INTERVAL;VALUE=DURATION:PT1H
X-Robots-Tag:noindex
X-PUBLISHED-TTL:PT1H
BEGIN:VTIMEZONE
TZID:America/Chicago
BEGIN:DAYLIGHT
TZOFFSETFROM:-0600
TZOFFSETTO:-0500
TZNAME:CDT
DTSTART:20220313T080000
END:DAYLIGHT
BEGIN:STANDARD
TZOFFSETFROM:-0500
TZOFFSETTO:-0600
TZNAME:CST
DTSTART:20221106T070000
END:STANDARD
BEGIN:DAYLIGHT
TZOFFSETFROM:-0600
TZOFFSETTO:-0500
TZNAME:CDT
DTSTART:20230312T080000
END:DAYLIGHT
BEGIN:STANDARD
TZOFFSETFROM:-0500
TZOFFSETTO:-0600
TZNAME:CST
DTSTART:20231105T070000
END:STANDARD
BEGIN:DAYLIGHT
TZOFFSETFROM:-0600
TZOFFSETTO:-0500
TZNAME:CDT
DTSTART:20240310T080000
END:DAYLIGHT
BEGIN:STANDARD
TZOFFSETFROM:-0500
TZOFFSETTO:-0600
TZNAME:CST
DTSTART:20241103T070000
END:STANDARD
END:VTIMEZONE
BEGIN:VEVENT
DTSTART;TZID=America/Chicago:20231014T090000
DTEND;TZID=America/Chicago:20231014T130000
DTSTAMP:20260421T044014
CREATED:20230630T175207Z
LAST-MODIFIED:20230630T175207Z
UID:10000227-1697274000-1697288400@www.landtrusttn.org
SUMMARY:October Community Day: Picnic at Glen Leven Farm
DESCRIPTION:10 minutes south of downtown Nashville\, you’ll find The Land Trust for Tennessee’s Glen Leven Farm. One Saturday a month\, we host Community Days at Glen Leven Farm so you can explore all 64 acres of this unique Nashville landscape for free. While you’re here\, see what’s blooming in the Education Garden and say hello to our resident miniature donkeys! \nIn October\, bring a picnic and join us for a day of fun on the farm! We’ll have tables\, picnic blankets and lawn games. Take a walk on our 1.5-mile trail around the farm then cool off with complimentary Walker Brothers Kombucha! \nRegister for free.
URL:https://www.landtrusttn.org/event/october-community-day-picnic-at-glen-leven-farm/
LOCATION:The Land Trust for Tennessee’s Glen Leven Farm\, 4000 Franklin Pike\, Nashville\, TN\, 37204\, United States
ORGANIZER;CN="The Land Trust for Tennessee":MAILTO:info@landtrusttn.org
END:VEVENT
END:VCALENDAR